BEGIN:VCALENDAR
VERSION:2.0
PRODID:-//wp-events-plugin.com//7.2.3.1//EN
BEGIN:VEVENT
UID:2@bsv-rees-feldmark.de
DTSTART;VALUE=DATE:20250920
DTEND;VALUE=DATE:20250921
DTSTAMP:20250908T132920Z
URL:https://bsv-rees-feldmark.de/?event=reiterabteilung-erlebnistag
SUMMARY:Reiterabteilung\, Erlebnistag
DESCRIPTION:
CATEGORIES:Zugveranstaltung
END:VEVENT
BEGIN:VEVENT
UID:1@bsv-rees-feldmark.de
DTSTART:20250920T140000Z
DTEND:20250920T224500Z
DTSTAMP:20250908T132933Z
URL:https://bsv-rees-feldmark.de/?event=damenzug-planwagentour
SUMMARY:Damenzug\, Planwagentour
DESCRIPTION:
CATEGORIES:Zugveranstaltung
END:VEVENT
BEGIN:VEVENT
UID:3@bsv-rees-feldmark.de
DTSTART;VALUE=DATE:20251018
DTEND;VALUE=DATE:20251019
DTSTAMP:20250921T152647Z
URL:https://bsv-rees-feldmark.de/?event=offiziersschiessen
SUMMARY:Offiziersschießen
DESCRIPTION:20250916_Einladung_Offiziersschießen 2025-1-1
CATEGORIES:Vereinsveranstaltung
LOCATION:Schützenhaus Rees\, Groiner Kirchweg 62\, Rees\, 46459\, Deutschl
 and
X-APPLE-STRUCTURED-LOCATION;VALUE=URI;X-ADDRESS=Groiner Kirchweg 62\, Rees\
 , 46459\, Deutschland;X-APPLE-RADIUS=100;X-TITLE=Schützenhaus Rees:geo:0,
 0
END:VEVENT
BEGIN:VEVENT
UID:4@bsv-rees-feldmark.de
DTSTART;VALUE=DATE:20251121
DTEND;VALUE=DATE:20251122
DTSTAMP:20251019T175721Z
URL:https://bsv-rees-feldmark.de/?event=reiterabteilung-uebungsreiten-mit-
 aktienversammlung
SUMMARY:Reiterabteilung\, Übungsreiten mit Aktivenversammlung
DESCRIPTION:
CATEGORIES:Zugveranstaltung
END:VEVENT
BEGIN:VEVENT
UID:5@bsv-rees-feldmark.de
DTSTART;VALUE=DATE:20251122
DTEND;VALUE=DATE:20251123
DTSTAMP:20250908T133006Z
URL:https://bsv-rees-feldmark.de/?event=budenzauber
SUMMARY:Budenzauber
DESCRIPTION:
CATEGORIES:Vereinsveranstaltung
LOCATION:Lindenstübchen\, Lindenallee 5\, Rees\, 46459\, Deutschland
X-APPLE-STRUCTURED-LOCATION;VALUE=URI;X-ADDRESS=Lindenallee 5\, Rees\, 4645
 9\, Deutschland;X-APPLE-RADIUS=100;X-TITLE=Lindenstübchen:geo:0,0
END:VEVENT
BEGIN:VEVENT
UID:6@bsv-rees-feldmark.de
DTSTART;VALUE=DATE:20251213
DTEND;VALUE=DATE:20251214
DTSTAMP:20250908T133019Z
URL:https://bsv-rees-feldmark.de/?event=1-zug-gluehweinabend
SUMMARY:1. Zug\, Glühweinabend
DESCRIPTION:
CATEGORIES:Zugveranstaltung
END:VEVENT
BEGIN:VEVENT
UID:8@bsv-rees-feldmark.de
DTSTART:20260110T183000Z
DTEND:20260110T224500Z
DTSTAMP:20250908T133052Z
URL:https://bsv-rees-feldmark.de/?event=neujahrsfest
SUMMARY:Neujahrsfest
DESCRIPTION:
CATEGORIES:Vereinsveranstaltung
LOCATION:Schützenhaus Rees\, Groiner Kirchweg 62\, Rees\, 46459\, Deutschl
 and
X-APPLE-STRUCTURED-LOCATION;VALUE=URI;X-ADDRESS=Groiner Kirchweg 62\, Rees\
 , 46459\, Deutschland;X-APPLE-RADIUS=100;X-TITLE=Schützenhaus Rees:geo:0,
 0
END:VEVENT
BEGIN:VEVENT
UID:9@bsv-rees-feldmark.de
DTSTART:20260214T181100Z
DTEND:20260214T225900Z
DTSTAMP:20260106T064647Z
URL:https://bsv-rees-feldmark.de/?event=karnevalsparty
SUMMARY:Karnevalsparty
DESCRIPTION:
LOCATION:Raiffeisenhalle-Festhalle\, Empeler Straße\, Rees\, Deutschland
X-APPLE-STRUCTURED-LOCATION;VALUE=URI;X-ADDRESS=Empeler Straße\, Rees\, De
 utschland;X-APPLE-RADIUS=100;X-TITLE=Raiffeisenhalle-Festhalle:geo:0,0
END:VEVENT
BEGIN:VEVENT
UID:11@bsv-rees-feldmark.de
DTSTART;VALUE=DATE:20260308
DTEND;VALUE=DATE:20260309
DTSTAMP:20260106T065105Z
URL:https://bsv-rees-feldmark.de/?event=1-zug-zugfest
SUMMARY:1. Zug\, Zugfest
DESCRIPTION:
END:VEVENT
BEGIN:VEVENT
UID:10@bsv-rees-feldmark.de
DTSTART:20260308T120000Z
DTEND:20260308T160000Z
DTSTAMP:20260106T065013Z
URL:https://bsv-rees-feldmark.de/?event=serienschiessen-dornick-1-zug-4-zu
 g-jungschuetzen-und-damen
SUMMARY:Serienschießen Dornick\, 1. Zug\, 4. Zug\, Jungschützen und Damen
DESCRIPTION:
END:VEVENT
BEGIN:VEVENT
UID:12@bsv-rees-feldmark.de
DTSTART:20260322T120000Z
DTEND:20260322T160000Z
DTSTAMP:20260106T065227Z
URL:https://bsv-rees-feldmark.de/?event=serienschiessen-dornick-2-zug-3-zu
 g-und-reiter
SUMMARY:Serienschießen Dornick\, 2. Zug\, 3. Zug\, und Reiter
DESCRIPTION:
END:VEVENT
BEGIN:VEVENT
UID:13@bsv-rees-feldmark.de
DTSTART;VALUE=DATE:20260328
DTEND;VALUE=DATE:20260329
DTSTAMP:20260106T065319Z
URL:https://bsv-rees-feldmark.de/?event=damenzug-kk
SUMMARY:Damenzug\, KK?
DESCRIPTION:
END:VEVENT
BEGIN:VEVENT
UID:14@bsv-rees-feldmark.de
DTSTART;VALUE=DATE:20260403
DTEND;VALUE=DATE:20260404
DTSTAMP:20260106T065446Z
URL:https://bsv-rees-feldmark.de/?event=reiterabteilung-karfreitagsuebungs
 reiten-mit-aktivenversammlung
SUMMARY:Reiterabteilung\, Karfreitagsübungsreiten mit Aktivenversammlung
DESCRIPTION:
END:VEVENT
BEGIN:VEVENT
UID:15@bsv-rees-feldmark.de
DTSTART:20260405T160000Z
DTEND:20260405T220000Z
DTSTAMP:20260106T065837Z
URL:https://bsv-rees-feldmark.de/?event=ostertreff
SUMMARY:Ostertreff
DESCRIPTION:
LOCATION:Schützenplatz BSV Rees-Feldmark\, Bergswicker Straße\, Rees\, 46
 459\, Deutschland
X-APPLE-STRUCTURED-LOCATION;VALUE=URI;X-ADDRESS=Bergswicker Straße\, Rees\
 , 46459\, Deutschland;X-APPLE-RADIUS=100;X-TITLE=Schützenplatz BSV Rees-F
 eldmark:geo:0,0
END:VEVENT
BEGIN:VEVENT
UID:16@bsv-rees-feldmark.de
DTSTART;VALUE=DATE:20260418
DTEND;VALUE=DATE:20260419
DTSTAMP:20260106T070006Z
URL:https://bsv-rees-feldmark.de/?event=bezirksjungschuetzentag
SUMMARY:Bezirksjungschützentag
DESCRIPTION:
LOCATION:Schützenplatz BSV Rees-Feldmark\, Bergswicker Straße\, Rees\, 46
 459\, Deutschland
X-APPLE-STRUCTURED-LOCATION;VALUE=URI;X-ADDRESS=Bergswicker Straße\, Rees\
 , 46459\, Deutschland;X-APPLE-RADIUS=100;X-TITLE=Schützenplatz BSV Rees-F
 eldmark:geo:0,0
END:VEVENT
BEGIN:VEVENT
UID:17@bsv-rees-feldmark.de
DTSTART:20260424T183000Z
DTEND:20260424T220000Z
DTSTAMP:20260106T070123Z
URL:https://bsv-rees-feldmark.de/?event=mitgliederversammlung
SUMMARY:Mitgliederversammlung
DESCRIPTION:
LOCATION:Schützenhaus Rees\, Groiner Kirchweg 62\, Rees\, 46459\, Deutschl
 and
X-APPLE-STRUCTURED-LOCATION;VALUE=URI;X-ADDRESS=Groiner Kirchweg 62\, Rees\
 , 46459\, Deutschland;X-APPLE-RADIUS=100;X-TITLE=Schützenhaus Rees:geo:0,
 0
END:VEVENT
BEGIN:VEVENT
UID:18@bsv-rees-feldmark.de
DTSTART:20260425T130000Z
DTEND:20260425T210000Z
DTSTAMP:20260106T070238Z
URL:https://bsv-rees-feldmark.de/?event=2-zug-biwak-bei-peters
SUMMARY:2. Zug\, Biwak bei Peters
DESCRIPTION:
END:VEVENT
BEGIN:VEVENT
UID:19@bsv-rees-feldmark.de
DTSTART;VALUE=DATE:20260509
DTEND;VALUE=DATE:20260510
DTSTAMP:20260106T070344Z
URL:https://bsv-rees-feldmark.de/?event=4-zug-ueberraschungstour
SUMMARY:4. Zug\, Überraschungstour
DESCRIPTION:
END:VEVENT
BEGIN:VEVENT
UID:20@bsv-rees-feldmark.de
DTSTART:20260521T230000Z
DTEND:20260521T230000Z
DTSTAMP:20260106T070458Z
URL:https://bsv-rees-feldmark.de/?event=reiterabteilung-uebungsreiten-mit-
 aktivenversammlung
SUMMARY:Reiterabteilung\, Übungsreiten mit Aktivenversammlung
DESCRIPTION:
END:VEVENT
BEGIN:VEVENT
UID:21@bsv-rees-feldmark.de
DTSTART;VALUE=DATE:20260530
DTEND;VALUE=DATE:20260531
DTSTAMP:20260106T070559Z
URL:https://bsv-rees-feldmark.de/?event=bezirksschuetzenfest-ausrichter-bs
 v-rees-stadt
SUMMARY:Bezirksschützenfest\, Ausrichter BSV Rees-Stadt
DESCRIPTION:
END:VEVENT
BEGIN:VEVENT
UID:22@bsv-rees-feldmark.de
DTSTART;VALUE=DATE:20260605
DTEND;VALUE=DATE:20260608
DTSTAMP:20260106T070946Z
URL:https://bsv-rees-feldmark.de/?event=feldmarker-schuetzenfest-2026
SUMMARY:Feldmarker Schützenfest 2026
DESCRIPTION:Am Sonntag: Kinderschützenfest
LOCATION:Schützenplatz BSV Rees-Feldmark\, Bergswicker Straße\, Rees\, 46
 459\, Deutschland
X-APPLE-STRUCTURED-LOCATION;VALUE=URI;X-ADDRESS=Bergswicker Straße\, Rees\
 , 46459\, Deutschland;X-APPLE-RADIUS=100;X-TITLE=Schützenplatz BSV Rees-F
 eldmark:geo:0,0
END:VEVENT
BEGIN:VEVENT
UID:23@bsv-rees-feldmark.de
DTSTART:20260617T183000Z
DTEND:20260617T210000Z
DTSTAMP:20260106T071109Z
URL:https://bsv-rees-feldmark.de/?event=damenzug-zugversammlung
SUMMARY:Damenzug\, Zugversammlung
DESCRIPTION:
LOCATION:Lindenstübchen\, Lindenallee 5\, Rees\, 46459\, Deutschland
X-APPLE-STRUCTURED-LOCATION;VALUE=URI;X-ADDRESS=Lindenallee 5\, Rees\, 4645
 9\, Deutschland;X-APPLE-RADIUS=100;X-TITLE=Lindenstübchen:geo:0,0
END:VEVENT
BEGIN:VEVENT
UID:24@bsv-rees-feldmark.de
DTSTART:20260619T183000Z
DTEND:20260619T210000Z
DTSTAMP:20260106T071225Z
URL:https://bsv-rees-feldmark.de/?event=2-zug-zugversammlung
SUMMARY:2. Zug\, Zugversammlung
DESCRIPTION:
LOCATION:Schützenhaus Rees\, Groiner Kirchweg 62\, Rees\, 46459\, Deutschl
 and
X-APPLE-STRUCTURED-LOCATION;VALUE=URI;X-ADDRESS=Groiner Kirchweg 62\, Rees\
 , 46459\, Deutschland;X-APPLE-RADIUS=100;X-TITLE=Schützenhaus Rees:geo:0,
 0
END:VEVENT
BEGIN:VEVENT
UID:25@bsv-rees-feldmark.de
DTSTART:20260625T230000Z
DTEND:20260625T230000Z
DTSTAMP:20260106T071323Z
URL:https://bsv-rees-feldmark.de/?event=reiterabteilung-jahreshauptversamm
 lung
SUMMARY:Reiterabteilung\, Jahreshauptversammlung
DESCRIPTION:
END:VEVENT
BEGIN:VEVENT
UID:26@bsv-rees-feldmark.de
DTSTART:20260703T230000Z
DTEND:20260703T230000Z
DTSTAMP:20260106T071421Z
URL:https://bsv-rees-feldmark.de/?event=kroenungsball-bsv-rees-stadt
SUMMARY:Krönungsball BSV Rees-Stadt
DESCRIPTION:
END:VEVENT
BEGIN:VEVENT
UID:27@bsv-rees-feldmark.de
DTSTART:20260718T150000Z
DTEND:20260718T220000Z
DTSTAMP:20260106T071520Z
URL:https://bsv-rees-feldmark.de/?event=jungschuetzen-biwak
SUMMARY:Jungschützen\, Biwak
DESCRIPTION:
END:VEVENT
BEGIN:VEVENT
UID:28@bsv-rees-feldmark.de
DTSTART:20260725T230000Z
DTEND:20260725T230000Z
DTSTAMP:20260106T071620Z
URL:https://bsv-rees-feldmark.de/?event=kroenungsball-st-irmgardis-esserde
 n
SUMMARY:Krönungsball St. Irmgardis-Esserden
DESCRIPTION:
END:VEVENT
BEGIN:VEVENT
UID:29@bsv-rees-feldmark.de
DTSTART:20260731T183000Z
DTEND:20260731T220000Z
DTSTAMP:20260106T071807Z
URL:https://bsv-rees-feldmark.de/?event=4-zug-jahreshauptversammlung
SUMMARY:4. Zug\, Jahreshauptversammlung
DESCRIPTION:
LOCATION:Schützenhaus Rees\, Groiner Kirchweg 62\, Rees\, 46459\, Deutschl
 and
X-APPLE-STRUCTURED-LOCATION;VALUE=URI;X-ADDRESS=Groiner Kirchweg 62\, Rees\
 , 46459\, Deutschland;X-APPLE-RADIUS=100;X-TITLE=Schützenhaus Rees:geo:0,
 0
END:VEVENT
BEGIN:VEVENT
UID:30@bsv-rees-feldmark.de
DTSTART;VALUE=DATE:20260801
DTEND;VALUE=DATE:20260802
DTSTAMP:20260106T082217Z
URL:https://bsv-rees-feldmark.de/?event=1-zug-fahrradtour
SUMMARY:1. Zug\, Fahrradtour
DESCRIPTION:
END:VEVENT
BEGIN:VEVENT
UID:31@bsv-rees-feldmark.de
DTSTART:20260731T230000Z
DTEND:20260731T230000Z
DTSTAMP:20260106T083145Z
URL:https://bsv-rees-feldmark.de/?event=reiterabteilung-biwak-bei-otten
SUMMARY:Reiterabteilung\, Biwak bei Otten
DESCRIPTION:
END:VEVENT
BEGIN:VEVENT
UID:32@bsv-rees-feldmark.de
DTSTART:20260807T230000Z
DTEND:20260807T230000Z
DTSTAMP:20260106T083324Z
URL:https://bsv-rees-feldmark.de/?event=damenzug-jubilaeumsbiwak
SUMMARY:Damenzug\, Jubiläumsbiwak
DESCRIPTION:
LOCATION:Lindenstübchen\, Lindenallee 5\, Rees\, 46459\, Deutschland
X-APPLE-STRUCTURED-LOCATION;VALUE=URI;X-ADDRESS=Lindenallee 5\, Rees\, 4645
 9\, Deutschland;X-APPLE-RADIUS=100;X-TITLE=Lindenstübchen:geo:0,0
END:VEVENT
BEGIN:VEVENT
UID:33@bsv-rees-feldmark.de
DTSTART:20260828T183000Z
DTEND:20260828T210000Z
DTSTAMP:20260106T083432Z
URL:https://bsv-rees-feldmark.de/?event=jahreshauptversammlung
SUMMARY:Jahreshauptversammlung
DESCRIPTION:
LOCATION:Schützenhaus Rees\, Groiner Kirchweg 62\, Rees\, 46459\, Deutschl
 and
X-APPLE-STRUCTURED-LOCATION;VALUE=URI;X-ADDRESS=Groiner Kirchweg 62\, Rees\
 , 46459\, Deutschland;X-APPLE-RADIUS=100;X-TITLE=Schützenhaus Rees:geo:0,
 0
END:VEVENT
BEGIN:VEVENT
UID:34@bsv-rees-feldmark.de
DTSTART:20260828T230000Z
DTEND:20260828T230000Z
DTSTAMP:20260106T083621Z
URL:https://bsv-rees-feldmark.de/?event=4-zug-50-jaehriges-jubilaeum
SUMMARY:4. Zug\, 50-jähriges Jubiläum
DESCRIPTION:
END:VEVENT
BEGIN:VEVENT
UID:35@bsv-rees-feldmark.de
DTSTART:20260911T230000Z
DTEND:20260911T230000Z
DTSTAMP:20260106T083733Z
URL:https://bsv-rees-feldmark.de/?event=offiziersschiessen-2
SUMMARY:Offiziersschießen
DESCRIPTION:
LOCATION:Schützenhaus Rees\, Groiner Kirchweg 62\, Rees\, 46459\, Deutschl
 and
X-APPLE-STRUCTURED-LOCATION;VALUE=URI;X-ADDRESS=Groiner Kirchweg 62\, Rees\
 , 46459\, Deutschland;X-APPLE-RADIUS=100;X-TITLE=Schützenhaus Rees:geo:0,
 0
END:VEVENT
BEGIN:VEVENT
UID:36@bsv-rees-feldmark.de
DTSTART:20260918T230000Z
DTEND:20260918T230000Z
DTSTAMP:20260106T083903Z
URL:https://bsv-rees-feldmark.de/?event=reiterabteilung-erlebnistag-2
SUMMARY:Reiterabteilung\, Erlebnistag
DESCRIPTION:
END:VEVENT
BEGIN:VEVENT
UID:37@bsv-rees-feldmark.de
DTSTART:20260926T130000Z
DTEND:20260926T220000Z
DTSTAMP:20260106T084021Z
URL:https://bsv-rees-feldmark.de/?event=2-zug-planwagenfahrt
SUMMARY:2. Zug\, Planwagenfahrt
DESCRIPTION:Ab 14:00 Uhr von Peters aus !
END:VEVENT
BEGIN:VEVENT
UID:38@bsv-rees-feldmark.de
DTSTART;VALUE=DATE:20261010
DTEND;VALUE=DATE:20261011
DTSTAMP:20260106T084106Z
URL:https://bsv-rees-feldmark.de/?event=damenzug-planwagenfahrt
SUMMARY:Damenzug\, Planwagenfahrt
DESCRIPTION:
END:VEVENT
BEGIN:VEVENT
UID:39@bsv-rees-feldmark.de
DTSTART:20261107T180000Z
DTEND:20261107T220000Z
DTSTAMP:20260106T084223Z
URL:https://bsv-rees-feldmark.de/?event=gaenseessen-der-vizekoenige
SUMMARY:Gänseessen der Vizekönige
DESCRIPTION:
LOCATION:Lindenstübchen\, Lindenallee 5\, Rees\, 46459\, Deutschland
X-APPLE-STRUCTURED-LOCATION;VALUE=URI;X-ADDRESS=Lindenallee 5\, Rees\, 4645
 9\, Deutschland;X-APPLE-RADIUS=100;X-TITLE=Lindenstübchen:geo:0,0
END:VEVENT
BEGIN:VEVENT
UID:40@bsv-rees-feldmark.de
DTSTART:20261119T230000Z
DTEND:20261119T230000Z
DTSTAMP:20260106T084329Z
URL:https://bsv-rees-feldmark.de/?event=reiterabteilung-uebungsreiten-mit-
 aktivenversammlung-2
SUMMARY:Reiterabteilung\, Übungsreiten mit Aktivenversammlung
DESCRIPTION:
END:VEVENT
BEGIN:VEVENT
UID:41@bsv-rees-feldmark.de
DTSTART;VALUE=DATE:20261121
DTEND;VALUE=DATE:20261122
DTSTAMP:20260106T085113Z
URL:https://bsv-rees-feldmark.de/?event=12-feldmarker-budenzauber
SUMMARY:12. Feldmarker Budenzauber
DESCRIPTION:
LOCATION:Lindenstübchen\, Lindenallee 5\, Rees\, 46459\, Deutschland
X-APPLE-STRUCTURED-LOCATION;VALUE=URI;X-ADDRESS=Lindenallee 5\, Rees\, 4645
 9\, Deutschland;X-APPLE-RADIUS=100;X-TITLE=Lindenstübchen:geo:0,0
END:VEVENT
BEGIN:VEVENT
UID:42@bsv-rees-feldmark.de
DTSTART:20261205T160000Z
DTEND:20261205T220000Z
DTSTAMP:20260106T085905Z
URL:https://bsv-rees-feldmark.de/?event=2-zug-adventssingen-bei-peters
SUMMARY:2. Zug\, Adventssingen bei Peters
DESCRIPTION:
END:VEVENT
BEGIN:VEVENT
UID:43@bsv-rees-feldmark.de
DTSTART:20261211T230000Z
DTEND:20261211T230000Z
DTSTAMP:20260106T085952Z
URL:https://bsv-rees-feldmark.de/?event=1-zug-weihnachtsfest
SUMMARY:1. Zug\, Weihnachtsfest
DESCRIPTION:
END:VEVENT
BEGIN:VEVENT
UID:44@bsv-rees-feldmark.de
DTSTART:20270107T230000Z
DTEND:20270107T230000Z
DTSTAMP:20260106T090038Z
URL:https://bsv-rees-feldmark.de/?event=reiterabteilung-reiten-zwischen-de
 n-jahren
SUMMARY:Reiterabteilung\, Reiten zwischen den Jahren
DESCRIPTION:
END:VEVENT
BEGIN:VEVENT
UID:45@bsv-rees-feldmark.de
DTSTART:20270116T183000Z
DTEND:20270116T220000Z
DTSTAMP:20260106T090136Z
URL:https://bsv-rees-feldmark.de/?event=neujahrsfest-2
SUMMARY:Neujahrsfest
DESCRIPTION:
LOCATION:Schützenhaus Rees\, Groiner Kirchweg 62\, Rees\, 46459\, Deutschl
 and
X-APPLE-STRUCTURED-LOCATION;VALUE=URI;X-ADDRESS=Groiner Kirchweg 62\, Rees\
 , 46459\, Deutschland;X-APPLE-RADIUS=100;X-TITLE=Schützenhaus Rees:geo:0,
 0
END:VEVENT
END:VCALENDAR